BEGIN:VCALENDAR
VERSION:2.0
PRODID:-//Plone.org//NONSGML plone.app.event//EN
X-WR-TIMEZONE:Europe/Madrid
BEGIN:VEVENT
SUMMARY:Cinefòrum Ciutadania crítica i residus elèctrics i electrònics
  (RAEE)
DTSTART;TZID=Europe/Madrid;VALUE=DATE-TIME:20251124T173000
DTEND;TZID=Europe/Madrid;VALUE=DATE-TIME:20251124T193000
DTSTAMP;VALUE=DATE-TIME:20260425T002744Z
UID:9acf5f05f32c4c1d96a35aa9de79f72e@localhost:6081
CONTACT:Xarxa d'Educadores i Educadors per a una Ciutadania Global\, xarxa
 ecg@gmail.com\, https://docs.google.com/forms/d/e/1FAIpQLSfJY2NzNZuL76pB7Z
 qyX2X6BGZ8JBC27YWKnlhTjTFGoNRnxw/viewform
CREATED;VALUE=DATE-TIME:20251107T191645Z
DESCRIPTION:La Xarxa ECG i Setem organitzen un cinefòrum en línia i deba
 t sobre els Residus d'Aparells Elèctrics i Electrònics (RAEE) en el marc
  de la XVII Setmana Europea de la Prevenció de Residus 2025. L'activitat 
 se centrarà en com abordar la problemàtica dels RAEE des de l'educació 
 i tindrà lloc el 24 de novembre de 2025
LAST-MODIFIED;VALUE=DATE-TIME:20251107T191721Z
LOCATION:Online
URL:https://www.edualter.org/ca/events/cineforum-ciutadania-critica-i-resi
 dus-electrics-i-electronics-raee
END:VEVENT
BEGIN:VTIMEZONE
TZID:Europe/Madrid
X-LIC-LOCATION:Europe/Madrid
BEGIN:STANDARD
DTSTART;VALUE=DATE-TIME:20251026T020000
TZNAME:CET
TZOFFSETFROM:+0200
TZOFFSETTO:+0100
END:STANDARD
END:VTIMEZONE
END:VCALENDAR
