BEGIN:VCALENDAR
VERSION:2.0
PRODID:-//Plone.org//NONSGML plone.app.event//EN
X-WR-TIMEZONE:Europe/Madrid
BEGIN:VEVENT
SUMMARY:Com acompanyem la sexualitat d’adolescents i joves?
DTSTART;TZID=Europe/Madrid;VALUE=DATE-TIME:20250610T160000
DTEND;TZID=Europe/Madrid;VALUE=DATE-TIME:20250619T203000
DTSTAMP;VALUE=DATE-TIME:20260425T002735Z
UID:2ad7d1a558224917b4c18a7bab1c169a@localhost:6081
CONTACT:Associació Mandràgores per l’autoconeixement\, info@mandragore
 s.cat\, https://mandragores.cat/project/curs-com-acompanyem-la-sexualitat-
 dadolescents-i-joves/
CREATED;VALUE=DATE-TIME:20250508T185523Z
DESCRIPTION:Una formació per repensar l’educació sexual des d’una pe
 rspectiva feminista. Per a professionals inconformistes i amb ganes d’ap
 rendre\, revisar-se i compartir.\n\nNo volem un format unidireccional!  Tr
 eballarem a través de dinàmiques participatives i vivencials\, que fomen
 tin el debat i la reflexió\, tant individual com col·lectiva. Alhora\,\n
 oferirem eines i continguts teòrics clau per abordar l’educació sexual
  sense caure en mites i prejudicis.  I perquè no ens quedi curt\, totes l
 es sessions es complementaran amb lectures o altres recursos per continuar
  aprofundint en els diferents continguts treballats.
LAST-MODIFIED;VALUE=DATE-TIME:20250527T101135Z
LOCATION:Espai Jove La Fontana Gàcia\, Barcelona
URL:https://www.edualter.org/ca/events/com-acompanyem-la-sexualitat-d2019a
 dolescents-i-joves
END:VEVENT
BEGIN:VTIMEZONE
TZID:Europe/Madrid
X-LIC-LOCATION:Europe/Madrid
BEGIN:DAYLIGHT
DTSTART;VALUE=DATE-TIME:20250330T030000
TZNAME:CEST
TZOFFSETFROM:+0100
TZOFFSETTO:+0200
END:DAYLIGHT
END:VTIMEZONE
END:VCALENDAR
