BEGIN:VCALENDAR
VERSION:2.0
PRODID:-//Plone.org//NONSGML plone.app.event//EN
X-WR-TIMEZONE:Europe/Madrid
BEGIN:VEVENT
SUMMARY:¿Cómo de ecosocial es mi centro educativo? De la autoevaluación
  al reconocimiento
DTSTART;TZID=Europe/Madrid;VALUE=DATE-TIME:20251204T163000
DTEND;TZID=Europe/Madrid;VALUE=DATE-TIME:20251204T180000
DTSTAMP;VALUE=DATE-TIME:20260424T153158Z
UID:5d793711e02843a6abd7259d735aea82@localhost:6081
CONTACT:FUHEM\, https://docs.google.com/forms/d/e/1FAIpQLSdU2SztK-xn1jUdnZ
 dah1rI3CnmIsCda1kDOFNRAjPV95mjFQ/viewform
CREATED;VALUE=DATE-TIME:20251127T184124Z
DESCRIPTION:El próximo 4 de diciembre a las 16.30 horas se celebrará un 
 nuevo webinar imprescindible para docentes de cualquier etapa educativa\, 
 coordinado por Martina Rey Dono\, técnica de Educación Ecosocial en FUHE
 M.
LAST-MODIFIED;VALUE=DATE-TIME:20251127T184142Z
LOCATION:GMT
URL:https://www.edualter.org/ca/events/como-de-ecosocial-es-mi-centro-educ
 ativo-de-la-autoevaluacion-al-reconocimiento
END:VEVENT
BEGIN:VTIMEZONE
TZID:Europe/Madrid
X-LIC-LOCATION:Europe/Madrid
BEGIN:STANDARD
DTSTART;VALUE=DATE-TIME:20251026T020000
TZNAME:CET
TZOFFSETFROM:+0200
TZOFFSETTO:+0100
END:STANDARD
END:VTIMEZONE
END:VCALENDAR
