BEGIN:VCALENDAR
VERSION:2.0
PRODID:-//Plone.org//NONSGML plone.app.event//EN
X-WR-TIMEZONE:Europe/Madrid
BEGIN:VEVENT
SUMMARY:Construint Pau a Colòmbia: Memòria i procés
DTSTART;VALUE=DATE:20250505
DTEND;VALUE=DATE:20250522
DTSTAMP;VALUE=DATE-TIME:20260425T005350Z
UID:e67e09aa62404a8e9d75f089f7193a8d@localhost:6081
CONTACT:Fundació Solidaritat UB\, solidaritatub@ub.edu\, https://www.soli
 daritat.ub.edu/construint-pau-colombia-memoria-proces/
CREATED;VALUE=DATE-TIME:20250512T085520Z
DESCRIPTION:El seminari gratuït\, coordinat per Rosa Ana Alija\, Elisenda
  Calvet i Dolors Danés\, emmarca la història recent del país i el proc
 és de pau\, explicada per les persones protagonistes i/o víctimes del co
 nflicte.\n\nL’activitat tindrà lloc en dies concrets del 5 al 21 de mai
 g de 2025\, de 16:30 a 20:00\, a la Facultat de Dret de la Universitat de 
 Barcelona. És oberta a tots els públics\, si bé es recomana especialmen
 t a estudiants de Dret\, i és susceptible de reconeixement de 2 crèdits 
 ECTS per a estudiants UB.
LAST-MODIFIED;VALUE=DATE-TIME:20250512T092049Z
LOCATION:Facultat de Dret UB
URL:https://www.edualter.org/ca/events/construint-pau-a-colombia-memoria-i
 -proces
END:VEVENT
END:VCALENDAR
