BEGIN:VCALENDAR
VERSION:2.0
PRODID:-//Plone.org//NONSGML plone.app.event//EN
X-WR-TIMEZONE:Europe/Madrid
BEGIN:VEVENT
SUMMARY:Cuidem-nos. Eines de benestar i salut per a professionals de l'Edu
 cació
DTSTART;TZID=Europe/Madrid;VALUE=DATE-TIME:20251018T090000
DTEND;TZID=Europe/Madrid;VALUE=DATE-TIME:20251018T133000
DTSTAMP;VALUE=DATE-TIME:20260424T194918Z
UID:8e8bfb3879424e5f82c3c0939f5a7ef3@localhost:6081
CONTACT:MRP de Girona\, https://docs.google.com/forms/d/1BMM2e6PghdqNQDiNL
 -oFEU0HdiIPjzZ5PWrL76AZYUA/viewform?edit_requested=true
CREATED;VALUE=DATE-TIME:20250925T141234Z
DESCRIPTION:El 18 d’octubre\, l’Escola Taialà de Girona acollirà la 
 jornada "Cuidem-nos. Eines de benestar i salut per a professionals de l’
 educació"\, en el marc de la X edició de Repensem l’Escola i Moviment 
 de Renovació Pedagògica de Girona\, una trobada adreçada a professional
 s de l’educació amb l’objectiu de posar l’enfocament en el benestar
  emocional i físic del col·lectiu.
LAST-MODIFIED;VALUE=DATE-TIME:20250925T141303Z
LOCATION:Escola Taialà (Girona).
URL:https://www.edualter.org/ca/events/cuidem-no-eines-de-benestar-i-salut
 -per-a-professionals-de-leducacio
END:VEVENT
BEGIN:VTIMEZONE
TZID:Europe/Madrid
X-LIC-LOCATION:Europe/Madrid
BEGIN:DAYLIGHT
DTSTART;VALUE=DATE-TIME:20250330T030000
TZNAME:CEST
TZOFFSETFROM:+0100
TZOFFSETTO:+0200
END:DAYLIGHT
END:VTIMEZONE
END:VCALENDAR
