BEGIN:VCALENDAR
VERSION:2.0
PRODID:-//Plone.org//NONSGML plone.app.event//EN
X-WR-TIMEZONE:Europe/Madrid
BEGIN:VEVENT
SUMMARY:Derechos Fundamentales para el trabajo en plataformas
DTSTART;TZID=Europe/Madrid;VALUE=DATE-TIME:20250603T170000
DTEND;TZID=Europe/Madrid;VALUE=DATE-TIME:20250603T190000
DTSTAMP;VALUE=DATE-TIME:20260425T004906Z
UID:d8fdaefcf2c74ae784b5a63d7dbf6e0c@localhost:6081
CONTACT:Derechos Digitales\, https://us06web.zoom.us/webinar/register/WN_K
 XvztRQaQeSQS4L_-TZuGg#/registration
CREATED;VALUE=DATE-TIME:20250529T221229Z
DESCRIPTION:En el marco de la 113ª reunión de la Conferencia Internacion
 al del Trabajo (#CIT2025)\, que tiene en su agenda el avance de marcos nor
 mativos para el trabajo decente en la economía de plataformas\,
LAST-MODIFIED;VALUE=DATE-TIME:20250529T221257Z
LOCATION:Online
URL:https://www.edualter.org/ca/events/derechos-fundamentales-para-el-trab
 ajo-en-plataformas
END:VEVENT
BEGIN:VTIMEZONE
TZID:Europe/Madrid
X-LIC-LOCATION:Europe/Madrid
BEGIN:DAYLIGHT
DTSTART;VALUE=DATE-TIME:20250330T030000
TZNAME:CEST
TZOFFSETFROM:+0100
TZOFFSETTO:+0200
END:DAYLIGHT
END:VTIMEZONE
END:VCALENDAR
