BEGIN:VCALENDAR
VERSION:2.0
PRODID:-//Plone.org//NONSGML plone.app.event//EN
X-WR-TIMEZONE:Europe/Madrid
BEGIN:VEVENT
SUMMARY:ESCAC I MAT: Fòrum social de narratives contra l’extrema dreta
DTSTART;TZID=Europe/Madrid;VALUE=DATE-TIME:20251018T100000
DTEND;TZID=Europe/Madrid;VALUE=DATE-TIME:20251018T140000
DTSTAMP;VALUE=DATE-TIME:20260424T202648Z
UID:669147e74dd448d9aeb46c7524a0f495@localhost:6081
CONTACT:ASSOCIACIÓ NOVACT\, info@novact.org\, https://novact.org/escac-i-
 mat-forum-social-de-narratives-contra-lextrema-dreta/
CREATED;VALUE=DATE-TIME:20251007T190124Z
DESCRIPTION:Apunta't a la jornada de debat i reflexió sobre l'auge reacci
 onari i de l'extrema dreta de la mà dels moviments socials de la ciutat!
LAST-MODIFIED;VALUE=DATE-TIME:20251007T190146Z
LOCATION:Espai Jove La Fontana (Barcelona)
URL:https://www.edualter.org/ca/events/escac-i-mat-forum-social-de-narrati
 ves-contra-l2019extrema-dreta
END:VEVENT
BEGIN:VTIMEZONE
TZID:Europe/Madrid
X-LIC-LOCATION:Europe/Madrid
BEGIN:DAYLIGHT
DTSTART;VALUE=DATE-TIME:20250330T030000
TZNAME:CEST
TZOFFSETFROM:+0100
TZOFFSETTO:+0200
END:DAYLIGHT
END:VTIMEZONE
END:VCALENDAR
