BEGIN:VCALENDAR
VERSION:2.0
PRODID:-//Plone.org//NONSGML plone.app.event//EN
X-WR-TIMEZONE:Europe/Madrid
BEGIN:VEVENT
SUMMARY:Espai de reflexió contra la pressió estètica i la grassofòbia
DTSTART;TZID=Europe/Madrid;VALUE=DATE-TIME:20250319T170000
DTSTAMP;VALUE=DATE-TIME:20260425T045748Z
UID:663c83d91ddf4855a23ba47944da725a@localhost:6081
CONTACT:Metges del Món Catalunya\, https://www.instagram.com/p/DG5wb7Jxcx
 f/?igsh=dzcyNDcydHU3Z3Zr
CREATED;VALUE=DATE-TIME:20250311T122127Z
DESCRIPTION:Un espai obert i divers de debat i reflexió o conèixer més 
 sobre la problemàtica al voltant de la grassofòbia i la discriminació d
 e les persones amb cossos no normatius.
LAST-MODIFIED;VALUE=DATE-TIME:20250311T122316Z
LOCATION:Plaça de Pere Coromines\, 1\, Barcelona
URL:https://www.edualter.org/ca/events/espai-de-reflexio-contra-la-pressio
 -estetica-i-la-grassofobia
END:VEVENT
BEGIN:VTIMEZONE
TZID:Europe/Madrid
X-LIC-LOCATION:Europe/Madrid
BEGIN:STANDARD
DTSTART;VALUE=DATE-TIME:20241027T020000
TZNAME:CET
TZOFFSETFROM:+0200
TZOFFSETTO:+0100
END:STANDARD
END:VTIMEZONE
END:VCALENDAR
