BEGIN:VCALENDAR
VERSION:2.0
PRODID:-//Plone.org//NONSGML plone.app.event//EN
X-WR-TIMEZONE:Europe/Madrid
BEGIN:VEVENT
SUMMARY:Estrena sèrie "Dones en lluita"
DTSTART;VALUE=DATE:20250308
DTEND;VALUE=DATE:20250309
DTSTAMP;VALUE=DATE-TIME:20260425T045616Z
UID:8f2a745fb2454ddaa017f02e211a699f@localhost:6081
CONTACT:https://www.3cat.cat/3cat/
CREATED;VALUE=DATE-TIME:20250306T104912Z
DESCRIPTION:Estrena de la nova sèrie de 3cat “Dones en lluita” de la 
 mà de Txell Freixes.
LAST-MODIFIED;VALUE=DATE-TIME:20250307T130505Z
URL:https://www.edualter.org/ca/events/estrena-serie-dones-en-lluita
END:VEVENT
END:VCALENDAR
