BEGIN:VCALENDAR
VERSION:2.0
PRODID:-//Plone.org//NONSGML plone.app.event//EN
X-WR-TIMEZONE:Europe/Madrid
BEGIN:VEVENT
SUMMARY:Herramientas para combatir la violencia online entre el alumnado a
 dolescente
DTSTART;TZID=Europe/Madrid;VALUE=DATE-TIME:20251016T180000
DTEND;TZID=Europe/Madrid;VALUE=DATE-TIME:20251016T190000
DTSTAMP;VALUE=DATE-TIME:20260424T173212Z
UID:aeac7260a77545798013d6e1cc3c63aa@localhost:6081
CONTACT:PeriFéricas\, Escuela de feminismos alternativos\, https://sendfo
 x.com/lp/1j454q?utm_source=sendfox&utm_medium=email&utm_campaign=webinar-h
 erramientas-para-combatir-la-violencia-online-entre-el-alumnado-adolescent
 e&d=85rrdpw6
CREATED;VALUE=DATE-TIME:20251002T212332Z
DESCRIPTION:En los últimos tiempos\, sois muchas las docentes y educadora
 s que percibís los peligros que plantea Internet para la adolescencia. Po
 r ello\, desde PeriFéricas\, Escuela de feminismos alternativos\, hemos p
 reparado un webinar gratuito para aportarte herramientas de lucha contra l
 a violencia online en tu trabajo docente.
LAST-MODIFIED;VALUE=DATE-TIME:20251002T212401Z
LOCATION:Online
URL:https://www.edualter.org/ca/events/herramientas-para-combatir-la-viole
 ncia-online-entre-el-alumnado-adolescente
END:VEVENT
BEGIN:VTIMEZONE
TZID:Europe/Madrid
X-LIC-LOCATION:Europe/Madrid
BEGIN:DAYLIGHT
DTSTART;VALUE=DATE-TIME:20250330T030000
TZNAME:CEST
TZOFFSETFROM:+0100
TZOFFSETTO:+0200
END:DAYLIGHT
END:VTIMEZONE
END:VCALENDAR
