BEGIN:VCALENDAR
VERSION:2.0
PRODID:-//Plone.org//NONSGML plone.app.event//EN
X-WR-TIMEZONE:Europe/Madrid
BEGIN:VEVENT
SUMMARY:I Trobada local Canviar l'educació per canviar el món
DTSTART;TZID=Europe/Madrid;VALUE=DATE-TIME:20251108T090000
DTEND;TZID=Europe/Madrid;VALUE=DATE-TIME:20251108T140000
DTSTAMP;VALUE=DATE-TIME:20260424T194917Z
UID:2636a986a68c4cadbde7b12356ed235f@localhost:6081
CONTACT:Lafede Justícia Global\, https://docs.google.com/forms/d/e/1FAIpQ
 LSfLGseExxFq_qPSDMOhePAfKwG1N1Lh8owqw32XUieqAXsp0Q/viewform
CREATED;VALUE=DATE-TIME:20250923T150604Z
DESCRIPTION:Aquest any Lafede organitza la primera trobada local d’exper
 iències educatives per a la Justícia Global. Impulsada per la Xarxa del 
 Garraf per a la Justícia global\, la jornada està dirigida a professiona
 ls de l’educació\, entitats i administracions per enfortir l’educaci
 ó per la Justícia global i enxarxar agents educatius i socials locals am
 b visió transformadora.
LAST-MODIFIED;VALUE=DATE-TIME:20251002T213232Z
LOCATION:Centre Cívic Molí de Vent (Carrer de l’Aigua 203-205)  Vilano
 va i la Geltrú.
URL:https://www.edualter.org/ca/events/i-trobada-local-canviar-leducacio-p
 er-canviar-el-mon
END:VEVENT
BEGIN:VTIMEZONE
TZID:Europe/Madrid
X-LIC-LOCATION:Europe/Madrid
BEGIN:STANDARD
DTSTART;VALUE=DATE-TIME:20251026T020000
TZNAME:CET
TZOFFSETFROM:+0200
TZOFFSETTO:+0100
END:STANDARD
END:VTIMEZONE
END:VCALENDAR
