BEGIN:VCALENDAR
VERSION:2.0
PRODID:-//Plone.org//NONSGML plone.app.event//EN
X-WR-TIMEZONE:Europe/Madrid
BEGIN:VEVENT
SUMMARY:II Jornada COPEC-UNIVERSITATS: “La Pedagogia que incomoda i tran
 sforma: Educar per transformar\, no per conformar”
DTSTART;TZID=Europe/Madrid;VALUE=DATE-TIME:20251120T090000
DTEND;TZID=Europe/Madrid;VALUE=DATE-TIME:20251120T170000
DTSTAMP;VALUE=DATE-TIME:20260424T183402Z
UID:f65408cb6104470cb29df8994cb0fb0b@localhost:6081
CONTACT:COPEC\, https://pedagogs.cat/activitat-copec/ca/210?utm_campaign=U
 A-30029355-1
CREATED;VALUE=DATE-TIME:20251107T192305Z
DESCRIPTION:En la Jornada vol evidenciar l’impacte i la necessitat de la
  Pedagogia en la vida ciutadana pel que fa a l’educació\, a la creació
  d’entorns saludables ciutadanes i laborals a través de l’aprenentatg
 e i el desenvolupament professional. \n\nAdreçada a titulats/des i estudi
 ants de Pedagogia i Psicopedagogia i\, en general\, professionals de l’
 àmbit educatiu\, social i empresarial.
LAST-MODIFIED;VALUE=DATE-TIME:20251107T192333Z
LOCATION:BELLATERRA (CERDANYOLA)\, Sala de Actes de la Facultat d’Econom
 ia i Empresa de la UAB - Av. de l’Eix Central\, b2
URL:https://www.edualter.org/ca/events/ii-jornada-copec-universitats-201cl
 a-pedagogia-que-incomoda-i-transforma-educar-per-transformar-no-per-confor
 mar201d
END:VEVENT
BEGIN:VTIMEZONE
TZID:Europe/Madrid
X-LIC-LOCATION:Europe/Madrid
BEGIN:STANDARD
DTSTART;VALUE=DATE-TIME:20251026T020000
TZNAME:CET
TZOFFSETFROM:+0200
TZOFFSETTO:+0100
END:STANDARD
END:VTIMEZONE
END:VCALENDAR
