BEGIN:VCALENDAR
VERSION:2.0
PRODID:-//Plone.org//NONSGML plone.app.event//EN
X-WR-TIMEZONE:Europe/Madrid
BEGIN:VEVENT
SUMMARY:II Jornades de Coeducació Transformadora "De l'arrel a la subvers
 ió"
DTSTART;TZID=Europe/Madrid;VALUE=DATE-TIME:20250507T093000
DTEND;TZID=Europe/Madrid;VALUE=DATE-TIME:20250507T173000
DTSTAMP;VALUE=DATE-TIME:20260425T045615Z
UID:6bb04185c9024b70a719c044936e2c5e@localhost:6081
CONTACT:Anna Celda\, 655238457\, anna.celda@intered.org\, https://coeducac
 iotransformadora.cat/des-de-larrel-2025/
CREATED;VALUE=DATE-TIME:20250425T070328Z
DESCRIPTION:Arriben les jornades d’incidència educativa De l’arrel a 
 la subversió: Parlem d’educació\, pedagogies feministes i justícia gl
 obal el 7 i 8 de maig al Centre Cívic Convent de Sant Agustí\, Barcelona
 .\n\nSi formes part d’un centre educatiu o la teva feina té a veure amb
  l’educació i la justícia global feminista 📣\, aquestes jornades s
 ón per a tu! \n\nAmb aquestes jornades volem qüestionar el model de sist
 ema educatiu actual i les múltiples formes en las que emergeixen les desi
 gualtats als centres educatius\, per tal d’avançar cap a polítiques ed
 ucatives realment transformadores. 🔮
LAST-MODIFIED;VALUE=DATE-TIME:20250504T223922Z
LOCATION:Centre Cívic Convent de Sant Agustí (Carrer del Comerç\, 36\, 
 Ciutat Vella\, 08003 Barcelona)
URL:https://www.edualter.org/ca/events/ii-jornades-de-coeducacio-transform
 adora-de-larrel-a-la-subversio
END:VEVENT
BEGIN:VTIMEZONE
TZID:Europe/Madrid
X-LIC-LOCATION:Europe/Madrid
BEGIN:DAYLIGHT
DTSTART;VALUE=DATE-TIME:20250330T030000
TZNAME:CEST
TZOFFSETFROM:+0100
TZOFFSETTO:+0200
END:DAYLIGHT
END:VTIMEZONE
END:VCALENDAR
