BEGIN:VCALENDAR
VERSION:2.0
PRODID:-//Plone.org//NONSGML plone.app.event//EN
X-WR-TIMEZONE:Europe/Madrid
BEGIN:VEVENT
SUMMARY:Kit d’Eines per a defensores de territori
DTSTART;TZID=Europe/Madrid;VALUE=DATE-TIME:20251018T100000
DTEND;TZID=Europe/Madrid;VALUE=DATE-TIME:20251122T100000
DTSTAMP;VALUE=DATE-TIME:20260424T194917Z
UID:48405434b056478ea4010947b1b32a89@localhost:6081
CONTACT:Dret a la salut- Farmamundi Catalunya\, Càtedra UNESCO de Desenvo
 lupament Humà Sostenible (UdG)\, https://defensores.saludglocal.org/kit-e
 ines-defensores-territori/
CREATED;VALUE=DATE-TIME:20251013T163946Z
DESCRIPTION:Incidir millor. Protegir-nos juntes. Fer-ho amb criteri.  Vols
  enfortir la teva lluita i fer-la més estratègica\, segura i col·lectiv
 a?\n\nEls nostres territoris i béns comuns viuen una pressió creixent. E
 l canvi climàtic i un model econòmic basat en la dominació i l’explot
 ació amenacen l’aigua\, els boscos i les terres que sostenen la vida. D
 avant d’això\, les lluites per la defensa del territori creixen\, s’e
 ntrellacen i es transformen
LAST-MODIFIED;VALUE=DATE-TIME:20251013T164634Z
LOCATION:Patronat Cultural i Recreatiu — c/Mossèn Jacint Verdaguer\, 52
   |   Canòdrom — c/ Concepción Arenal\, 165\, Sant Andreu
URL:https://www.edualter.org/ca/events/kit-d2019eines-per-a-defensores-de-
 territori
END:VEVENT
BEGIN:VTIMEZONE
TZID:Europe/Madrid
X-LIC-LOCATION:Europe/Madrid
BEGIN:DAYLIGHT
DTSTART;VALUE=DATE-TIME:20250330T030000
TZNAME:CEST
TZOFFSETFROM:+0100
TZOFFSETTO:+0200
END:DAYLIGHT
BEGIN:STANDARD
DTSTART;VALUE=DATE-TIME:20251026T020000
TZNAME:CET
TZOFFSETFROM:+0200
TZOFFSETTO:+0100
END:STANDARD
END:VTIMEZONE
END:VCALENDAR
