BEGIN:VCALENDAR
VERSION:2.0
PRODID:-//Plone.org//NONSGML plone.app.event//EN
X-WR-TIMEZONE:Europe/Madrid
BEGIN:VEVENT
SUMMARY:La producció audiovisual a l'aula
DTSTART;TZID=Europe/Madrid;VALUE=DATE-TIME:20251114T140000
DTEND;TZID=Europe/Madrid;VALUE=DATE-TIME:20251115T120000
DTSTAMP;VALUE=DATE-TIME:20260424T174049Z
UID:2e1fc15200a846428702019f62a5ed7f@localhost:6081
CONTACT:AulaMèdia\, https://www.aulamedia.org/wordpress/trobada2025/
CREATED;VALUE=DATE-TIME:20250916T103752Z
DESCRIPTION:Fem una crida a tot el professorat -tant d’Educació Primàr
 ia com d’Educació Secundaria- que fa producció audiovisual a l’aula 
 a trobar-nos el proper novembre a la TROBADA 2025. Aquest encontre també 
 està obert al professorat interessat en iniciar nous projectes audiovisua
 ls escolars\, així com al professorat en general.
LAST-MODIFIED;VALUE=DATE-TIME:20250916T103808Z
LOCATION:Barcelona
URL:https://www.edualter.org/ca/events/la-produccio-audiovisual-a-laula
END:VEVENT
BEGIN:VTIMEZONE
TZID:Europe/Madrid
X-LIC-LOCATION:Europe/Madrid
BEGIN:STANDARD
DTSTART;VALUE=DATE-TIME:20251026T020000
TZNAME:CET
TZOFFSETFROM:+0200
TZOFFSETTO:+0100
END:STANDARD
END:VTIMEZONE
END:VCALENDAR
