BEGIN:VCALENDAR
VERSION:2.0
PRODID:-//Plone.org//NONSGML plone.app.event//EN
X-WR-TIMEZONE:Europe/Madrid
BEGIN:VEVENT
SUMMARY:Manifestació nocturna 7m
DTSTART;TZID=Europe/Madrid;VALUE=DATE-TIME:20250307T183000
DTSTAMP;VALUE=DATE-TIME:20260424T190412Z
UID:97bcd9de4eeb4d6a993a3d9734a06a46@localhost:6081
CATEGORIES:GÈNERE,alternvativa,feminismes\, participació\,
CONTACT:https://sevaarmarlagorda.wordpress.com/2025/02/24/xv-se-va-a-armar
 -la-gorda/
CREATED;VALUE=DATE-TIME:20250306T103940Z
DESCRIPTION:Se Va a Armar La Gorda: XV Jornades d'acció feminista i autò
 noma per a dones\, bolleres i trans
LAST-MODIFIED;VALUE=DATE-TIME:20250306T104358Z
URL:https://www.edualter.org/ca/events/manifestacio-nocturna-7m
END:VEVENT
BEGIN:VTIMEZONE
TZID:Europe/Madrid
X-LIC-LOCATION:Europe/Madrid
BEGIN:STANDARD
DTSTART;VALUE=DATE-TIME:20241027T020000
TZNAME:CET
TZOFFSETFROM:+0200
TZOFFSETTO:+0100
END:STANDARD
END:VTIMEZONE
END:VCALENDAR
