BEGIN:VCALENDAR
VERSION:2.0
PRODID:-//Plone.org//NONSGML plone.app.event//EN
X-WR-TIMEZONE:Europe/Madrid
BEGIN:VEVENT
SUMMARY:Microcredencial en Benestar Digital i Alfabetització Mediàtica: 
 Estratègies i Eines per Educar Críticament en un Entorn Digital
DTSTART;TZID=Europe/Madrid;VALUE=DATE-TIME:20251029T000000
DTEND;TZID=Europe/Madrid;VALUE=DATE-TIME:20251030T000000
DTSTAMP;VALUE=DATE-TIME:20260424T172830Z
UID:76bbe8d3301146e8a86501578bff1817@localhost:6081
CONTACT:Plataforma per l'Educació Mediàtica del Consell de l'Audiovisual
  de Catalunya\, https://www.uab.cat/web/postgrau/microcredencial-en-benest
 ar-digital-i-alfabetitzacio-mediatica-estrategies-i-eines-per-educar-criti
 cament-en-un-entorn-digital/informacio-general-1201094877538.html/param1-5
 182_ca/
CREATED;VALUE=DATE-TIME:20251016T143413Z
DESCRIPTION:Aquesta microcredencial vol oferir una aproximació integral a
  l'alfabetització mediàtica i informacional (AMI) i al concepte de benes
 tar digital\, abordant-ne els fonaments teòrics i pràctics en els contex
 tos europeu\, espanyol i català. A través d'una mirada pedagògica i neu
 rocientífica\, es proporcionen diferents eines i recursos per fomentar un
  ús ètic i crític de la tecnologia\, les pantalles i els mitjans digita
 ls en contextos educatius i comunitaris per a la ciutadania de totes les e
 dats.
LAST-MODIFIED;VALUE=DATE-TIME:20251107T191114Z
LOCATION:Online
URL:https://www.edualter.org/ca/events/microcredencial-en-benestar-digital
 -i-alfabetitzacio-mediatica-estrategies-i-eines-per-educar-criticament-en-
 un-entorn-digital
END:VEVENT
BEGIN:VTIMEZONE
TZID:Europe/Madrid
X-LIC-LOCATION:Europe/Madrid
BEGIN:STANDARD
DTSTART;VALUE=DATE-TIME:20251026T020000
TZNAME:CET
TZOFFSETFROM:+0200
TZOFFSETTO:+0100
END:STANDARD
END:VTIMEZONE
END:VCALENDAR
