BEGIN:VCALENDAR
VERSION:2.0
PRODID:-//Plone.org//NONSGML plone.app.event//EN
X-WR-TIMEZONE:Europe/Madrid
BEGIN:VEVENT
SUMMARY:Nous paradigmes de la cooperació municipal
DTSTART;TZID=Europe/Madrid;VALUE=DATE-TIME:20251016T000000
DTEND;TZID=Europe/Madrid;VALUE=DATE-TIME:20251120T000000
DTSTAMP;VALUE=DATE-TIME:20260424T174110Z
UID:427fa9311dda469fbeb8440c28718746@localhost:6081
CONTACT:Fundació Solidaritat UB\, 934035538\, solidaritatub@ub.edu\, http
 s://www.solidaritat.ub.edu/cicle-cooperacio-municipal-hospitalet/
CREATED;VALUE=DATE-TIME:20251016T144020Z
DESCRIPTION:Com les ciutats poden contribuir a construir un món més just
 \, equitatiu i sostenible? El cicle de xerrades ‘Nous paradigmes de la c
 ooperació municipal’ convida ciutadania\, professionals i institucions 
 a compartir coneixements\, inquietuds i pràctiques innovadores que enfort
 eixin la solidaritat global des de la proximitat.
LAST-MODIFIED;VALUE=DATE-TIME:20251016T144133Z
LOCATION:Carrer Josep Maria de Segarra\, 29\, 08901 L’Hospitalet de Llob
 regat
URL:https://www.edualter.org/ca/events/nous-paradigmes-de-la-cooperacio-mu
 nicipal-1
END:VEVENT
BEGIN:VTIMEZONE
TZID:Europe/Madrid
X-LIC-LOCATION:Europe/Madrid
BEGIN:DAYLIGHT
DTSTART;VALUE=DATE-TIME:20250330T030000
TZNAME:CEST
TZOFFSETFROM:+0100
TZOFFSETTO:+0200
END:DAYLIGHT
BEGIN:STANDARD
DTSTART;VALUE=DATE-TIME:20251026T020000
TZNAME:CET
TZOFFSETFROM:+0200
TZOFFSETTO:+0100
END:STANDARD
END:VTIMEZONE
END:VCALENDAR
