BEGIN:VCALENDAR
VERSION:2.0
PRODID:-//Plone.org//NONSGML plone.app.event//EN
X-WR-TIMEZONE:Europe/Madrid
BEGIN:VEVENT
SUMMARY:ODS\, 10 anys. Balanç i perspectives
DTSTART;TZID=Europe/Madrid;VALUE=DATE-TIME:20250513T180000
DTEND;TZID=Europe/Madrid;VALUE=DATE-TIME:20250522T200000
DTSTAMP;VALUE=DATE-TIME:20260425T014344Z
UID:eb735e42a20240c7ac7838aff3eb6184@localhost:6081
CONTACT:Fundació Solidaritat UB\, 934035538\, solidaritatub@ub.edu\, http
 s://www.solidaritat.ub.edu/curs-10-anys-ods/
CREATED;VALUE=DATE-TIME:20250508T165943Z
DESCRIPTION:Quatre xerrades els dies 13\, 15\, 20 i 22 de maig — dues en
  línia i dues presencials a l'Hospitalet — repassen els 10 anys dels OD
 S de l'Agenda 2030.
LAST-MODIFIED;VALUE=DATE-TIME:20250512T092948Z
LOCATION:En línia i a L’H Espai de Debat
URL:https://www.edualter.org/ca/events/ods-10-anys-balanc-i-perspectives
END:VEVENT
BEGIN:VTIMEZONE
TZID:Europe/Madrid
X-LIC-LOCATION:Europe/Madrid
BEGIN:DAYLIGHT
DTSTART;VALUE=DATE-TIME:20250330T030000
TZNAME:CEST
TZOFFSETFROM:+0100
TZOFFSETTO:+0200
END:DAYLIGHT
END:VTIMEZONE
END:VCALENDAR
