BEGIN:VCALENDAR
VERSION:2.0
PRODID:-//Plone.org//NONSGML plone.app.event//EN
X-WR-TIMEZONE:Europe/Madrid
BEGIN:VEVENT
SUMMARY:Taller (m)aternitats invisibles
DTSTART;TZID=Europe/Madrid;VALUE=DATE-TIME:20250405T100000
DTEND;TZID=Europe/Madrid;VALUE=DATE-TIME:20250405T140000
DTSTAMP;VALUE=DATE-TIME:20260425T022346Z
UID:64976c2aa7fa41cf811b7e231914cf12@localhost:6081
CONTACT:Centre LGTBI Bcn\, 93 880 51 11\, info@centrelgtbibcn.org\, https:
 //ajuntament.barcelona.cat/lgtbi/ca/noticia/obrim-les-inscripcions-al-tall
 er-maternitats-invisibles_1493435
CREATED;VALUE=DATE-TIME:20250318T084101Z
DESCRIPTION:Una activitat en el marc del nou cicle de programació “Vinc
 les” del Centre LGTBI de Barcelona.
LAST-MODIFIED;VALUE=DATE-TIME:20250318T085557Z
LOCATION:Carrer del Comte Borrell\, 22\, L'Eixample\, 08015 Barcelona
URL:https://www.edualter.org/ca/events/taller-m-aternitats-invisibles
END:VEVENT
BEGIN:VTIMEZONE
TZID:Europe/Madrid
X-LIC-LOCATION:Europe/Madrid
BEGIN:DAYLIGHT
DTSTART;VALUE=DATE-TIME:20250330T030000
TZNAME:CEST
TZOFFSETFROM:+0100
TZOFFSETTO:+0200
END:DAYLIGHT
END:VTIMEZONE
END:VCALENDAR
