BEGIN:VCALENDAR
VERSION:2.0
PRODID:-//Plone.org//NONSGML plone.app.event//EN
X-WR-TIMEZONE:Europe/Madrid
BEGIN:VEVENT
SUMMARY:Un te a la menta amb... Maria Elena Bedoya
DTSTART;TZID=Europe/Madrid;VALUE=DATE-TIME:20250317T180000
DTEND;TZID=Europe/Madrid;VALUE=DATE-TIME:20250317T190000
DTSTAMP;VALUE=DATE-TIME:20260425T045635Z
UID:a886dd2f283c42e9810c76def4179412@localhost:6081
CONTACT:Fundació Solidaritat UB\, 934035538\, solidaritatub@ub.edu\, http
 s://www.solidaritat.ub.edu/te-menta-maria-elena-bedoya/
CREATED;VALUE=DATE-TIME:20250306T160946Z
LAST-MODIFIED;VALUE=DATE-TIME:20250311T092651Z
LOCATION:Biblioteca Zona Nord – Mària Sánchez
URL:https://www.edualter.org/ca/events/un-te-a-la-menta-amb-maria-elena-be
 doya
END:VEVENT
BEGIN:VTIMEZONE
TZID:Europe/Madrid
X-LIC-LOCATION:Europe/Madrid
BEGIN:STANDARD
DTSTART;VALUE=DATE-TIME:20241027T020000
TZNAME:CET
TZOFFSETFROM:+0200
TZOFFSETTO:+0100
END:STANDARD
END:VTIMEZONE
END:VCALENDAR
