BEGIN:VCALENDAR
VERSION:2.0
PRODID:-//Plone.org//NONSGML plone.app.event//EN
X-WR-TIMEZONE:Europe/Madrid
BEGIN:VEVENT
SUMMARY:Webinar “La Educación para el Desarrollo: un aporte a la profun
 dización de la democracia”
DTSTART;TZID=Europe/Madrid;VALUE=DATE-TIME:20251204T160000
DTEND;TZID=Europe/Madrid;VALUE=DATE-TIME:20251204T173000
DTSTAMP;VALUE=DATE-TIME:20260424T152508Z
UID:c0881d18569c4cecaa70082b9f0a99e5@localhost:6081
CONTACT:Programa de Ciudadanía Global para el Desarrollo Sostenible (Prog
 rama de CGpDS)\, https://ibercidadaniaglobal.org/webinar-la-educacion-para
 -el-desarrollo-un-aporte-a-la-profundizacion-de-la-democracia/
CREATED;VALUE=DATE-TIME:20251123T153152Z
DESCRIPTION:El Programa de Ciudadanía Global para el Desarrollo Sostenibl
 e (Programa de CGpDS)\, junto con el Consejo de Educación Popular de Amé
 rica Latina y el Caribe (CEAAL)\, la Global Education Network Europe (GENE
 )\, la Liga Iberoamericana\, la Oficina Regional de la UNESCO para Améric
 a Latina y el Caribe\, la Organización de Estados Iberoamericanos (OEI) y
  la Secretaría General Iberoamericana (SEGIB)\, invitan al webinar “La 
 Educación para el Desarrollo: un aporte a la profundización de la democr
 acia”\, que se celebrará el 4 de diciembre de 2025\, a las 16h00 (hora 
 de España)\, a través de Zoom.
LAST-MODIFIED;VALUE=DATE-TIME:20251123T153227Z
LOCATION:Online
URL:https://www.edualter.org/ca/events/webinar-201cla-educacion-para-el-de
 sarrollo-un-aporte-a-la-profundizacion-de-la-democracia201d
END:VEVENT
BEGIN:VTIMEZONE
TZID:Europe/Madrid
X-LIC-LOCATION:Europe/Madrid
BEGIN:STANDARD
DTSTART;VALUE=DATE-TIME:20251026T020000
TZNAME:CET
TZOFFSETFROM:+0200
TZOFFSETTO:+0100
END:STANDARD
END:VTIMEZONE
END:VCALENDAR
