BEGIN:VCALENDAR
VERSION:2.0
PRODID:-//Plone.org//NONSGML plone.app.event//EN
X-WR-TIMEZONE:Europe/Madrid
BEGIN:VEVENT
SUMMARY:XXXV ENCUENTRO DE MOVIMIENTOS DE RENOVACIÓN PEDAGÒGICA
DTSTART;TZID=Europe/Madrid;VALUE=DATE-TIME:20251017T173000
DTEND;TZID=Europe/Madrid;VALUE=DATE-TIME:20251019T130000
DTSTAMP;VALUE=DATE-TIME:20260424T195212Z
UID:c96549af802a4368b7aa4dba1b4b4300@localhost:6081
CONTACT:Josep Ramon Torres\, mesa@confederacionmrp.com\, https://confedera
 cionmrp.com/xxxv-encuentro/
CREATED;VALUE=DATE-TIME:20251001T074251Z
DESCRIPTION:Enllaç: https://www.canva.com/design/DAGyesJcoyU/-Pp03_4DQwPn
 8KWFGx5Pmg/view?utm_content=DAGyesJcoyU&utm_campaign=designshare&utm_mediu
 m=link&utm_source=viewer
LAST-MODIFIED;VALUE=DATE-TIME:20251016T144516Z
LOCATION:El Prat de Llobregat
URL:https://www.edualter.org/ca/events/xxxv-encuentro-de-movimientos-de-re
 novacion-pedagogica
END:VEVENT
BEGIN:VTIMEZONE
TZID:Europe/Madrid
X-LIC-LOCATION:Europe/Madrid
BEGIN:DAYLIGHT
DTSTART;VALUE=DATE-TIME:20250330T030000
TZNAME:CEST
TZOFFSETFROM:+0100
TZOFFSETTO:+0200
END:DAYLIGHT
END:VTIMEZONE
END:VCALENDAR
